BEGIN:VCALENDAR
VERSION:2.0
PRODID:-//Vancouver Intergroup Alcoholics Anonymous - ECPv6.15.20//NONSGML v1.0//EN
CALSCALE:GREGORIAN
METHOD:PUBLISH
X-WR-CALNAME:Vancouver Intergroup Alcoholics Anonymous
X-ORIGINAL-URL:https://www.vancouveraa.org
X-WR-CALDESC:Events for Vancouver Intergroup Alcoholics Anonymous
REFRESH-INTERVAL;VALUE=DURATION:PT1H
X-Robots-Tag:noindex
X-PUBLISHED-TTL:PT1H
BEGIN:VTIMEZONE
TZID:America/Los_Angeles
BEGIN:DAYLIGHT
TZOFFSETFROM:-0800
TZOFFSETTO:-0700
TZNAME:PDT
DTSTART:20250309T100000
END:DAYLIGHT
BEGIN:STANDARD
TZOFFSETFROM:-0700
TZOFFSETTO:-0800
TZNAME:PST
DTSTART:20251102T090000
END:STANDARD
BEGIN:DAYLIGHT
TZOFFSETFROM:-0800
TZOFFSETTO:-0700
TZNAME:PDT
DTSTART:20260308T100000
END:DAYLIGHT
BEGIN:STANDARD
TZOFFSETFROM:-0700
TZOFFSETTO:-0800
TZNAME:PST
DTSTART:20261101T090000
END:STANDARD
BEGIN:DAYLIGHT
TZOFFSETFROM:-0800
TZOFFSETTO:-0700
TZNAME:PDT
DTSTART:20270314T100000
END:DAYLIGHT
BEGIN:STANDARD
TZOFFSETFROM:-0700
TZOFFSETTO:-0800
TZNAME:PST
DTSTART:20271107T090000
END:STANDARD
END:VTIMEZONE
BEGIN:VEVENT
DTSTART;TZID=America/Los_Angeles:20260420T180000
DTEND;TZID=America/Los_Angeles:20260420T190000
DTSTAMP:20260420T072811
CREATED:20260418T000354Z
LAST-MODIFIED:20260418T000354Z
UID:7178-1776708000-1776711600@www.vancouveraa.org
SUMMARY:Vancouver Area Intergroup Representative Meeting
DESCRIPTION:🌟 Intergroup Representative Meeting 🌟 \n\nYou’re Invited! \nVancouver area Intergroup invites you to join our upcoming\nIntergroup Representative Meeting \n🗓 Date: Monday\, April 20\, 2026\n⏰ Time: 6:00 PM\n🌎 Time Zone: Pacific Time (US & Canada)\n💻 Location: Zoom (Online) \n\n🔗 Join Zoom Meeting\n\nJoin Zoom Meeting\nhttps://us06web.zoom.us/j/84242704852?pwd=dUDFHSAZnzYfPYqOQL8lSecJGRwlUY.1 \nMeeting ID: 842 4270 4852\nPasscode: 325919 \n— \nOne tap mobile\n+12532050468\,\,84242704852#\,\,\,\,*325919# US\n+12532158782\,\,84242704852#\,\,\,\,*325919# US (Tacoma) \nJoin instructions\nhttps://us06web.zoom.us/meetings/84242704852/invitations?signature=z2WI1ixlSbHv78ib7cYChtcoHTq4U_BwueplLocl2t4 \n\n\n✨ Purpose:\nConnect with fellow Intergroup Representatives\, share updates\, and support our collective service efforts. \n✅ All representatives encouraged to attend\n✅ Come ready to listen\, share\, and participate \n\nWe look forward to seeing you there!\n🤝 Together in service
URL:https://www.vancouveraa.org/event/vancouver-area-intergroup-representative-meeting-5/
LOCATION:Vancouver Area Intergroup\, 2203 Fairmount Ave #A\, Vancouver\, WA\, 98661\, United States
ATTACH;FMTTYPE=image/png:https://www.vancouveraa.org/wp-content/uploads/2025/12/NewLogo.png
END:VEVENT
END:VCALENDAR