BEGIN:VCALENDAR
VERSION:2.0
PRODID:-//Vancouver Intergroup Alcoholics Anonymous - ECPv6.15.20//NONSGML v1.0//EN
CALSCALE:GREGORIAN
METHOD:PUBLISH
X-WR-CALNAME:Vancouver Intergroup Alcoholics Anonymous
X-ORIGINAL-URL:https://www.vancouveraa.org
X-WR-CALDESC:Events for Vancouver Intergroup Alcoholics Anonymous
REFRESH-INTERVAL;VALUE=DURATION:PT1H
X-Robots-Tag:noindex
X-PUBLISHED-TTL:PT1H
BEGIN:VTIMEZONE
TZID:America/Los_Angeles
BEGIN:DAYLIGHT
TZOFFSETFROM:-0800
TZOFFSETTO:-0700
TZNAME:PDT
DTSTART:20250309T100000
END:DAYLIGHT
BEGIN:STANDARD
TZOFFSETFROM:-0700
TZOFFSETTO:-0800
TZNAME:PST
DTSTART:20251102T090000
END:STANDARD
BEGIN:DAYLIGHT
TZOFFSETFROM:-0800
TZOFFSETTO:-0700
TZNAME:PDT
DTSTART:20260308T100000
END:DAYLIGHT
BEGIN:STANDARD
TZOFFSETFROM:-0700
TZOFFSETTO:-0800
TZNAME:PST
DTSTART:20261101T090000
END:STANDARD
BEGIN:DAYLIGHT
TZOFFSETFROM:-0800
TZOFFSETTO:-0700
TZNAME:PDT
DTSTART:20270314T100000
END:DAYLIGHT
BEGIN:STANDARD
TZOFFSETFROM:-0700
TZOFFSETTO:-0800
TZNAME:PST
DTSTART:20271107T090000
END:STANDARD
END:VTIMEZONE
BEGIN:VEVENT
DTSTART;TZID=America/Los_Angeles:20260327T190000
DTEND;TZID=America/Los_Angeles:20260327T210000
DTSTAMP:20260424T014122
CREATED:20260320T000402Z
LAST-MODIFIED:20260320T000439Z
UID:7121-1774638000-1774645200@www.vancouveraa.org
SUMMARY:Come Join Us- Westside Speaker Meeting
DESCRIPTION:Westside is celebrating recovery with a great speaker night! Come cheer on Kelly B. and share some Friday‑night fellowship.
URL:https://www.vancouveraa.org/event/come-join-us-westside-speaker-meeting/
LOCATION:38th & Ocean Beach Highway\, Longview\, Washington\, 98632
ATTACH;FMTTYPE=image/png:https://www.vancouveraa.org/wp-content/uploads/2026/03/Westside-speaker-Mar27.png
END:VEVENT
END:VCALENDAR